BEGIN:VCALENDAR
VERSION:2.0
PRODID:-//San Antonio Area Foundation - ECPv6.15.18//NONSGML v1.0//EN
CALSCALE:GREGORIAN
METHOD:PUBLISH
X-ORIGINAL-URL:https://saafdn.org
X-WR-CALDESC:Events for San Antonio Area Foundation
REFRESH-INTERVAL;VALUE=DURATION:PT1H
X-Robots-Tag:noindex
X-PUBLISHED-TTL:PT1H
BEGIN:VTIMEZONE
TZID:America/Chicago
BEGIN:DAYLIGHT
TZOFFSETFROM:-0600
TZOFFSETTO:-0500
TZNAME:CDT
DTSTART:20240310T080000
END:DAYLIGHT
BEGIN:STANDARD
TZOFFSETFROM:-0500
TZOFFSETTO:-0600
TZNAME:CST
DTSTART:20241103T070000
END:STANDARD
BEGIN:DAYLIGHT
TZOFFSETFROM:-0600
TZOFFSETTO:-0500
TZNAME:CDT
DTSTART:20250309T080000
END:DAYLIGHT
BEGIN:STANDARD
TZOFFSETFROM:-0500
TZOFFSETTO:-0600
TZNAME:CST
DTSTART:20251102T070000
END:STANDARD
BEGIN:DAYLIGHT
TZOFFSETFROM:-0600
TZOFFSETTO:-0500
TZNAME:CDT
DTSTART:20260308T080000
END:DAYLIGHT
BEGIN:STANDARD
TZOFFSETFROM:-0500
TZOFFSETTO:-0600
TZNAME:CST
DTSTART:20261101T070000
END:STANDARD
END:VTIMEZONE
BEGIN:VEVENT
DTSTART;TZID=America/Chicago:20250415T090000
DTEND;TZID=America/Chicago:20250415T120000
DTSTAMP:20260424T055932
CREATED:20250127T204202Z
LAST-MODIFIED:20250127T204202Z
UID:10000084-1744707600-1744718400@saafdn.org
SUMMARY:Elements of Nonprofit Program Development – Anthony Betori
DESCRIPTION:Developing a non-profit program requires skill\, expertise\, and confidence in a wide range of competencies. Good program managers can effectively supervise staff\, develop strong budgets\, engage community members\, evaluate their success\, and so much more. Does this seem daunting\, confusing\, exhausting – or maybe even exciting? Then this is the class for you! This highly interactive course will provide opportunities to learn and practice new skills in program development. Participants will also receive a curated list of resources they can use for career-long success in program development. \nObjectives: \n\nParticipants will understand five lenses for considering program development strategies: money\, strategy\, staff\, community engagement\, and evaluation\nParticipants will understand specific strategies for applying best practices in program development to the programs they contribute to at their organization\nParticipants will apply strategies for program development to challenging situations\n\nWho should attend: Nonprofit Management Program participants\, executives\, and management staff with program development responsibilities\, and entry-level staff interested in progressing their careers to include these responsibilities. \nREGISTER HERE
URL:https://saafdn.org/events/elements-of-nonprofit-program-development-anthony-betori/
LOCATION:San Antonio Area Foundation\, 155 Concord Plaza Drive Suite 301\, San Antonio\, TX\, 78216\, United States
CATEGORIES:Training
ATTACH;FMTTYPE=image/png:https://saafdn.org/wp-content/uploads/2023/08/Untitled-design-145.png
END:VEVENT
BEGIN:VEVENT
DTSTART;TZID=America/Chicago:20250415T133000
DTEND;TZID=America/Chicago:20250415T163000
DTSTAMP:20260424T055932
CREATED:20250127T204420Z
LAST-MODIFIED:20250127T205802Z
UID:10000085-1744723800-1744734600@saafdn.org
SUMMARY:Measuring Impact: Evaluation for Scale and Sustainability– Anthony Betori
DESCRIPTION:Evaluation is the key to successfully scaling and sustaining the impact of nonprofits. When we don’t know IF our program works or WHY it works\, we may struggle to justify continued funding. We may also risk losing community engagement\, and we may disengage from the core mission that drives our work. In this session\, we will explore what and how to evaluate programs to ensure the future of your organization through scale and sustainability. Participants will leave with specific tools to implement and a stronger theoretical understanding of the nature of evaluation. \nObjectives: \n\nParticipants will understand basic theoretical concepts related to the importance of evaluation and the methodology of evaluation\nParticipants will apply their understanding of evaluation to determine what strategies best suit the programs they contribute to at their organization\nParticipants will identify gaps/challenges in their current evaluation strategy and make plans to implement solutions\n\nWho should attend: Nonprofit Management Program participants\, executives and management staff who have program development responsibilities\, and entry-level staff interested in progressing their career to include these responsibilities. \nREGISTER HERE
URL:https://saafdn.org/events/measuring-impact-evaluation-for-scale-and-sustainability-anthony-betori/
LOCATION:San Antonio Area Foundation\, 155 Concord Plaza Drive Suite 301\, San Antonio\, TX\, 78216\, United States
CATEGORIES:Training
ATTACH;FMTTYPE=image/png:https://saafdn.org/wp-content/uploads/2025/01/measure-impact.png
END:VEVENT
END:VCALENDAR